BEGIN:VCALENDAR
VERSION:2.0
PRODID:-//MINDMOVERS - COACHING &amp; TRAINING - ECPv6.15.20//NONSGML v1.0//EN
CALSCALE:GREGORIAN
METHOD:PUBLISH
X-WR-CALNAME:MINDMOVERS - COACHING &amp; TRAINING
X-ORIGINAL-URL:https://mindmovers.de
X-WR-CALDESC:Veranstaltungen für MINDMOVERS - COACHING &amp; TRAINING
REFRESH-INTERVAL;VALUE=DURATION:PT1H
X-Robots-Tag:noindex
X-PUBLISHED-TTL:PT1H
BEGIN:VTIMEZONE
TZID:UTC
BEGIN:STANDARD
TZOFFSETFROM:+0000
TZOFFSETTO:+0000
TZNAME:UTC
DTSTART:20250101T000000
END:STANDARD
END:VTIMEZONE
BEGIN:VEVENT
DTSTART;VALUE=DATE:20260508
DTEND;VALUE=DATE:20260509
DTSTAMP:20260424T132126
CREATED:20260209T112538Z
LAST-MODIFIED:20260209T112538Z
UID:1138-1778198400-1778284799@mindmovers.de
SUMMARY:Stärken-Workshop
DESCRIPTION:
URL:https://mindmovers.de/event/staerken-workshop-4/
LOCATION:Mindmovers\, Venslage 2A\, Freren\, 49832\, Germany
END:VEVENT
END:VCALENDAR